BEGIN:VCALENDAR
VERSION:2.0
PRODID:-//jcrcstl.org//NONSGML kigkonsult.se iCalcreator 2.30.10//
CALSCALE:GREGORIAN
METHOD:PUBLISH
UID:a6e2ef86-8b69-4ab3-9c37-a4f34413f3c7
X-WR-CALDESC:St. Louis Jewish Book Festival Special Speaker: Adriana E. Ram
 irez\nTuesday\, September 16 | 7:00 pm\n﻿Carl & Helene Mirowitz Performing
  Arts Center\n2 Millstone Campus Drive\, St. Louis\nUSE JCRC DISCOUNT CODE
 : JBFSHALOMAMIGOS20\nThis code is good for 20% off the book festival all a
 ccess pass\, which would provide entry to this event and the rest of the b
 ook festival.\n\nAs part of Shalom Amigos and the Newmark Institute at JCR
 C\, we invite you to join us as we start our 2025 Jewish Book Festival sea
 son with a celebration of National Hispanic Heritage Month by welcoming ac
 claimed writer\, performer\, and editor Adriana E. Ramírez. A Colombian-Me
 xican American author and the winner of the PEN/Fusion Emerging Writers Pr
 ize\, Ramírez is known for her fearless storytelling\, dynamic voice\, and
  incisive cultural commentary.\n\nIn this special appearance\, she’ll also
  reflect on her personal journey in discovering and embracing her Jewish h
 eritage—offering a compelling and deeply personal narrative that bridges c
 ultures and communities.\n\n
X-WR-RELCALID:4d62a539766cd2df442dc80948357895
X-WR-TIMEZONE:America/Chicago
BEGIN:VTIMEZONE
TZID:America/Chicago
BEGIN:STANDARD
TZNAME:CST
DTSTART:20241103T020000
TZOFFSETFROM:-0500
TZOFFSETTO:-0600
RDATE:20251102T020000
RDATE:20261101T020000
END:STANDARD
BEGIN:DAYLIGHT
TZNAME:CDT
DTSTART:20250309T020000
TZOFFSETFROM:-0600
TZOFFSETTO:-0500
RDATE:20260308T020000
RDATE:20270314T020000
END:DAYLIGHT
END:VTIMEZONE
BEGIN:VEVENT
UID:3a984524-e82e-4060-a065-c2676dc9c6bc
DTSTAMP:20260420T123224Z
DESCRIPTION:St. Louis Jewish Book Festival Special Speaker: Adriana E. Rami
 rez\nTuesday\, September 16 | 7:00 pm\n﻿Carl & Helene Mirowitz Performing 
 Arts Center\n2 Millstone Campus Drive\, St. Louis\nUSE JCRC DISCOUNT CODE:
  JBFSHALOMAMIGOS20\nThis code is good for 20% off the book festival all ac
 cess pass\, which would provide entry to this event and the rest of the bo
 ok festival.\n\nAs part of Shalom Amigos and the Newmark Institute at JCRC
 \, we invite you to join us as we start our 2025 Jewish Book Festival seas
 on with a celebration of National Hispanic Heritage Month by welcoming acc
 laimed writer\, performer\, and editor Adriana E. Ramírez. A Colombian-Mex
 ican American author and the winner of the PEN/Fusion Emerging Writers Pri
 ze\, Ramírez is known for her fearless storytelling\, dynamic voice\, and 
 incisive cultural commentary.\n\nIn this special appearance\, she’ll also 
 reflect on her personal journey in discovering and embracing her Jewish he
 ritage—offering a compelling and deeply personal narrative that bridges cu
 ltures and communities.\n\n
DTSTART;TZID=America/Chicago:20250916T190000
DTEND;TZID=America/Chicago:20250916T203000
LOCATION:
SUMMARY:Shalom Amigos & St. Louis Jewish Book Festival Special Speaker: Adr
 iana E. Ramirez
END:VEVENT
END:VCALENDAR
