BEGIN:VCALENDAR
VERSION:2.0
PRODID:-//jcrcstl.org//NONSGML kigkonsult.se iCalcreator 2.30.10//
CALSCALE:GREGORIAN
METHOD:PUBLISH
UID:66f87e76-39b9-4523-85d2-1c05368e3704
X-WR-CALDESC:The Breakfast Dialogue Group is a multi-faith dialogue group t
 hat brings together religious leaders and lay leaders for shared learning.
  The group meets on the following Mondays from 9-10 am: 11/6 | 12/4 | 1/8 
 | 2/5 | 3/4 | 4/1\n\nTo learn how you can get more involved or to find the
  group that is right for you\, contact Program Manager Elyse Picker at epi
 cker@jcrcstl.org or call (314) 442-3874.\n\n*Dialogue Groups are a program
  of the Newmark Institute.
X-WR-RELCALID:f8077d7ca342a3f2f6f0c05db0ca55fd
X-WR-TIMEZONE:America/Chicago
BEGIN:VTIMEZONE
TZID:America/Chicago
BEGIN:STANDARD
TZNAME:CST
DTSTART:20231105T020000
TZOFFSETFROM:-0500
TZOFFSETTO:-0600
RDATE:20241103T020000
END:STANDARD
BEGIN:DAYLIGHT
TZNAME:CDT
DTSTART:20230312T020000
TZOFFSETFROM:-0600
TZOFFSETTO:-0500
RDATE:20240310T020000
RDATE:20250309T020000
END:DAYLIGHT
END:VTIMEZONE
BEGIN:VEVENT
UID:0c582693-c9ff-4704-a8c4-5f48e1283b81
DTSTAMP:20260422T085118Z
DESCRIPTION:The Breakfast Dialogue Group is a multi-faith dialogue group th
 at brings together religious leaders and lay leaders for shared learning. 
 The group meets on the following Mondays from 9-10 am: 11/6 | 12/4 | 1/8 |
  2/5 | 3/4 | 4/1\n\nTo learn how you can get more involved or to find the 
 group that is right for you\, contact Program Manager Elyse Picker at epic
 ker@jcrcstl.org or call (314) 442-3874.\n\n*Dialogue Groups are a program 
 of the Newmark Institute.
DTSTART;TZID=America/Chicago:20240205T090000
DTEND;TZID=America/Chicago:20240205T100000
LOCATION:
SUMMARY:Interfaith Breakfast Dialogue Group
END:VEVENT
END:VCALENDAR
