BEGIN:VCALENDAR
VERSION:2.0
PRODID:-//jcrcstl.org//NONSGML kigkonsult.se iCalcreator 2.30.10//
CALSCALE:GREGORIAN
METHOD:PUBLISH
UID:82ec70c6-0337-46fd-aaed-de2ad4d7316c
X-WR-CALDESC:Barak Medina is the Landecker-Ferencz Professor of the study o
 f Protection of Minorities and Vulnerable Groups at the Faculty of Law of 
 the Hebrew University of Jerusalem. He studies constitutional law and huma
 n rights law. Prof. Medina has served as Rector (Provost) of the Hebrew Un
 iversity (2017-2022) and as Dean of the Faculty of Law (2009-2012). He is 
 currently a Senior Visiting Fellow at Harvard Law School.\n\nProf. Medina 
 is one of the leaders of the Law Professors’ Forum for Democracy\, which p
 layed a central role in the campaign against the Israeli government’s plan
  for “Judicial Overhaul.” He is also a member of Israel’s national task fo
 rce acting to prevent academic boycott.
X-WR-RELCALID:f480835037983be6071eceb0c9da4644
X-WR-TIMEZONE:America/Chicago
BEGIN:VTIMEZONE
TZID:America/Chicago
BEGIN:STANDARD
TZNAME:CST
DTSTART:20231105T020000
TZOFFSETFROM:-0500
TZOFFSETTO:-0600
RDATE:20241103T020000
RDATE:20251102T020000
END:STANDARD
BEGIN:DAYLIGHT
TZNAME:CDT
DTSTART:20240310T020000
TZOFFSETFROM:-0600
TZOFFSETTO:-0500
RDATE:20250309T020000
END:DAYLIGHT
END:VTIMEZONE
BEGIN:VEVENT
UID:3ffdec7a-702f-4175-8b3e-24d2e1cf8c53
DTSTAMP:20260422T134139Z
DESCRIPTION:Barak Medina is the Landecker-Ferencz Professor of the study of
  Protection of Minorities and Vulnerable Groups at the Faculty of Law of t
 he Hebrew University of Jerusalem. He studies constitutional law and human
  rights law. Prof. Medina has served as Rector (Provost) of the Hebrew Uni
 versity (2017-2022) and as Dean of the Faculty of Law (2009-2012). He is c
 urrently a Senior Visiting Fellow at Harvard Law School.\n\nProf. Medina i
 s one of the leaders of the Law Professors’ Forum for Democracy\, which pl
 ayed a central role in the campaign against the Israeli government’s plan 
 for “Judicial Overhaul.” He is also a member of Israel’s national task for
 ce acting to prevent academic boycott.
DTSTART;TZID=America/Chicago:20240904T081500
DTEND;TZID=America/Chicago:20240904T093000
LOCATION:12 Millstone Campus Drive\, St. Louis\, MO 63042 US
SUMMARY:Israeli Academia In Times of Turmoil: Between the Judicial Crisis &
  the War
END:VEVENT
END:VCALENDAR
