BEGIN:VCALENDAR
VERSION:2.0
PRODID:-//jcrcstl.org//NONSGML kigkonsult.se iCalcreator 2.30.10//
CALSCALE:GREGORIAN
METHOD:PUBLISH
UID:f85ae188-43c1-4908-b473-72af32b4c514
X-WR-CALDESC:Critical Theories of Anti-Semitism: A Conversation with Jonath
 an Judaken\nThursday\, September 12 | 6:00 pm\nWashington University of St
 . Louis Umrath Lounge\n\nThe Department of Jewish\, Islamic\, and Middle E
 astern Studies (JIMES) and the Department of History will host a book even
 t and public conversation featuring Prof. Jonathan Judaken\, discussing hi
 s new book 'Critical Theories of Anti-Semitism' (Columbia University Press
 \, 2024).\n\nProf. Judaken will engage in a dialogue with Professors Flora
  Cassen\, Adrienne Davis\, and Mark Oppenheimer\, exploring the complex is
 sues surrounding antisemitism and Judeophobia\, critical theories\, and th
 eir contemporary relevance.\n\nJCRC is a proud co-sponsor of this event.
X-WR-RELCALID:7aa0b641165ddfba2443cf38abef330d
X-WR-TIMEZONE:America/Chicago
BEGIN:VTIMEZONE
TZID:America/Chicago
BEGIN:STANDARD
TZNAME:CST
DTSTART:20231105T020000
TZOFFSETFROM:-0500
TZOFFSETTO:-0600
RDATE:20241103T020000
RDATE:20251102T020000
END:STANDARD
BEGIN:DAYLIGHT
TZNAME:CDT
DTSTART:20240310T020000
TZOFFSETFROM:-0600
TZOFFSETTO:-0500
RDATE:20250309T020000
RDATE:20260308T020000
END:DAYLIGHT
END:VTIMEZONE
BEGIN:VEVENT
UID:d889e24a-3412-4366-b21c-8bfbc5571890
DTSTAMP:20260422T133945Z
DESCRIPTION:Critical Theories of Anti-Semitism: A Conversation with Jonatha
 n Judaken\nThursday\, September 12 | 6:00 pm\nWashington University of St.
  Louis Umrath Lounge\n\nThe Department of Jewish\, Islamic\, and Middle Ea
 stern Studies (JIMES) and the Department of History will host a book event
  and public conversation featuring Prof. Jonathan Judaken\, discussing his
  new book 'Critical Theories of Anti-Semitism' (Columbia University Press\
 , 2024).\n\nProf. Judaken will engage in a dialogue with Professors Flora 
 Cassen\, Adrienne Davis\, and Mark Oppenheimer\, exploring the complex iss
 ues surrounding antisemitism and Judeophobia\, critical theories\, and the
 ir contemporary relevance.\n\nJCRC is a proud co-sponsor of this event.
DTSTART;TZID=America/Chicago:20240912T180000
DTEND;TZID=America/Chicago:20240912T193000
LOCATION:
SUMMARY:Critical Theories of Anti-Semitism: A Conversation with Jonathan Ju
 daken
END:VEVENT
END:VCALENDAR
