BEGIN:VCALENDAR
VERSION:2.0
PRODID:-//jcrcstl.org//NONSGML kigkonsult.se iCalcreator 2.30.10//
CALSCALE:GREGORIAN
METHOD:PUBLISH
UID:963e58a6-8c97-4b5f-b8b1-2c138fdc0a62
X-WR-CALDESC:Eilu v'Eilu: A Debate on Jewish Values and American Politics i
 n the context of the 2024 Election with Deutsch Scholars-in-Residence\nDr.
  Tevi Troy and Rabbi David Saperstein \n \nAs the  2024 election draws nea
 r\, in the spirit of Eilu v'Eilu (principled disagreement) Dr. Troy and Ra
 bbi Saperstein will debate the merits and weaknesses of liberal and conser
 vative policy in service to the interests of American Jewry\, global Jewry
 \, and Israel\, as well as discuss pertinent insights from Jewish law\, hi
 story\, and values in context with today's most pressing issues\, such as 
 abortion\, affirmative action\, antisemitism\, climate change\, and more. 
 At this critical juncture in American history\, rife with partisanship and
  discord\, Dr. Troy and Rabbi Saperstein will demonstrate how even politic
 al protagonists with sharply differing political\, religious\, and ideolog
 ical views can engage in respectful and constructive debate. \n\nABOUT THE
  SPEAKERS:\nDr. Tevi Troy is a best-selling presidential historian\, forme
 r senior White House aid and Deputy Secretary of HHS\, and former Liaison 
 to the Jewish Community in the George W. Bush Administration.\n\nRabbi Dav
 id Saperstein is the former Director of the Religious Action Center of Ref
 orm Judaism\, former President of the World Union for Progressive Judaism\
 , and former U.S. Ambassador for International Religious Freedom in the Ob
 ama administration.\n\nThis program is sponsored by the Fred and Elsie Deu
 tsch Endowment Fund of Congregation Shaare Emeth. The Congregation would l
 ike to thank Roberta and Jim Deutsch\, Judy and Larry Deutsch\, and their 
 families for their generous support for the Scholar-in-Residence program\,
  which is co-sponsored by Congregation Temple Israel\, JCRC\, MaTovu\, NCJ
 W\, Saul Brodsky Educational Resource Fund of the Jewish Federation of St.
  Louis\, Temple Emanuel\, United Hebrew Congregation\, and WashU Hillel.
X-WR-RELCALID:609e085e9d71b3a1bd7fcb98cd08ad1c
X-WR-TIMEZONE:America/Chicago
BEGIN:VTIMEZONE
TZID:America/Chicago
BEGIN:STANDARD
TZNAME:CST
DTSTART:20231105T020000
TZOFFSETFROM:-0500
TZOFFSETTO:-0600
RDATE:20241103T020000
RDATE:20251102T020000
END:STANDARD
BEGIN:DAYLIGHT
TZNAME:CDT
DTSTART:20240310T020000
TZOFFSETFROM:-0600
TZOFFSETTO:-0500
RDATE:20250309T020000
RDATE:20260308T020000
END:DAYLIGHT
END:VTIMEZONE
BEGIN:VEVENT
UID:aa9099a6-b2fc-4a51-bd8b-9739553f1ebc
DTSTAMP:20260422T135352Z
DESCRIPTION:Eilu v'Eilu: A Debate on Jewish Values and American Politics in
  the context of the 2024 Election with Deutsch Scholars-in-Residence\nDr. 
 Tevi Troy and Rabbi David Saperstein \n \nAs the  2024 election draws near
 \, in the spirit of Eilu v'Eilu (principled disagreement) Dr. Troy and Rab
 bi Saperstein will debate the merits and weaknesses of liberal and conserv
 ative policy in service to the interests of American Jewry\, global Jewry\
 , and Israel\, as well as discuss pertinent insights from Jewish law\, his
 tory\, and values in context with today's most pressing issues\, such as a
 bortion\, affirmative action\, antisemitism\, climate change\, and more. A
 t this critical juncture in American history\, rife with partisanship and 
 discord\, Dr. Troy and Rabbi Saperstein will demonstrate how even politica
 l protagonists with sharply differing political\, religious\, and ideologi
 cal views can engage in respectful and constructive debate. \n\nABOUT THE 
 SPEAKERS:\nDr. Tevi Troy is a best-selling presidential historian\, former
  senior White House aid and Deputy Secretary of HHS\, and former Liaison t
 o the Jewish Community in the George W. Bush Administration.\n\nRabbi Davi
 d Saperstein is the former Director of the Religious Action Center of Refo
 rm Judaism\, former President of the World Union for Progressive Judaism\,
  and former U.S. Ambassador for International Religious Freedom in the Oba
 ma administration.\n\nThis program is sponsored by the Fred and Elsie Deut
 sch Endowment Fund of Congregation Shaare Emeth. The Congregation would li
 ke to thank Roberta and Jim Deutsch\, Judy and Larry Deutsch\, and their f
 amilies for their generous support for the Scholar-in-Residence program\, 
 which is co-sponsored by Congregation Temple Israel\, JCRC\, MaTovu\, NCJW
 \, Saul Brodsky Educational Resource Fund of the Jewish Federation of St. 
 Louis\, Temple Emanuel\, United Hebrew Congregation\, and WashU Hillel.
DTSTART;TZID=America/Chicago:20240915T190000
DTEND;TZID=America/Chicago:20240915T210000
LOCATION:Shaare Emeth\, 11645 Ladue Road\, St. Louis\, MO 63141 US
SUMMARY:Eilu v'Eilu: A Debate on Jewish Values & American Politics in the C
 ontext of the 2024 Election
END:VEVENT
END:VCALENDAR
