BEGIN:VCALENDAR
VERSION:2.0
PRODID:-//jcrcstl.org//NONSGML kigkonsult.se iCalcreator 2.30.10//
CALSCALE:GREGORIAN
METHOD:PUBLISH
UID:334c04c4-afbd-4f8b-8dc3-5bda8b0b456e
X-WR-CALDESC:Get ready for the November 5 General Elections! We know you ha
 ve questions and it's hard to understand it all. Join JCRC\, Kol Rinah\, a
 nd NCJW to get your questions answered\, learn about ballot measures\, how
  to counter misinformation\, and much more.\n\nThis program is made possib
 le through Ignition grant funding awarded to JCRC\, NCJW\, and Kol Rinah t
 hrough A More Perfect Union: The Jewish Partnership of Democracy.
X-WR-RELCALID:b0f61287ccf21b447611480db1b7cded
X-WR-TIMEZONE:America/Chicago
BEGIN:VTIMEZONE
TZID:America/Chicago
BEGIN:STANDARD
TZNAME:CST
DTSTART:20231105T020000
TZOFFSETFROM:-0500
TZOFFSETTO:-0600
RDATE:20241103T020000
RDATE:20251102T020000
END:STANDARD
BEGIN:DAYLIGHT
TZNAME:CDT
DTSTART:20240310T020000
TZOFFSETFROM:-0600
TZOFFSETTO:-0500
RDATE:20250309T020000
RDATE:20260308T020000
END:DAYLIGHT
END:VTIMEZONE
BEGIN:VEVENT
UID:01c0cfe6-49bf-4684-9b0a-90b791b31d16
DTSTAMP:20260422T134022Z
DESCRIPTION:Get ready for the November 5 General Elections! We know you hav
 e questions and it's hard to understand it all. Join JCRC\, Kol Rinah\, an
 d NCJW to get your questions answered\, learn about ballot measures\, how 
 to counter misinformation\, and much more.\n\nThis program is made possibl
 e through Ignition grant funding awarded to JCRC\, NCJW\, and Kol Rinah th
 rough A More Perfect Union: The Jewish Partnership of Democracy.
DTSTART;TZID=America/Chicago:20240925T120000
DTEND;TZID=America/Chicago:20240925T130000
LOCATION:https://us06web.zoom.us/meeting/register/tZEsce6hrDgrHdRiVrjo4SbFo
 kUJUeNCeHCp#/registration/meeting/register/tZEsce6hrDgrHdRiVrjo4SbFokUJUeN
 CeHCp#/registration
SUMMARY:What To Know About the November 5 Elections
END:VEVENT
END:VCALENDAR
