BEGIN:VCALENDAR
VERSION:2.0
PRODID:-//jcrcstl.org//NONSGML kigkonsult.se iCalcreator 2.30.10//
CALSCALE:GREGORIAN
METHOD:PUBLISH
UID:e2a31110-d258-442c-a1d5-b8f706ac4119
X-WR-CALDESC:
X-WR-RELCALID:34b5dd8cdaa057502f29fceb5cab647a
X-WR-TIMEZONE:America/Chicago
BEGIN:VTIMEZONE
TZID:America/Chicago
BEGIN:STANDARD
TZNAME:CST
DTSTART:20231105T020000
TZOFFSETFROM:-0500
TZOFFSETTO:-0600
RDATE:20241103T020000
RDATE:20251102T020000
END:STANDARD
BEGIN:DAYLIGHT
TZNAME:CDT
DTSTART:20240310T020000
TZOFFSETFROM:-0600
TZOFFSETTO:-0500
RDATE:20250309T020000
RDATE:20260308T020000
END:DAYLIGHT
END:VTIMEZONE
BEGIN:VEVENT
UID:440449e1-6535-4256-b1c8-54f39154f147
DTSTAMP:20260422T134307Z
DESCRIPTION:
DTSTART;TZID=America/Chicago:20240929T103000
DTEND;TZID=America/Chicago:20240929T160000
LOCATION:JCC Staenberg Family Complex\, Millstone Campus\, St. Louis\, MO 6
 3146 US
SUMMARY:Sababa
END:VEVENT
END:VCALENDAR
