BEGIN:VCALENDAR
VERSION:2.0
PRODID:-//jcrcstl.org//NONSGML kigkonsult.se iCalcreator 2.30.10//
CALSCALE:GREGORIAN
METHOD:PUBLISH
UID:bce2c29e-fdb7-4f7d-b036-4c02d0bd7957
X-WR-CALDESC:Join us for the 14th annual Interfaith Concert and experience 
 the transformative power of music\, faith\, and community.\n\nBe captivate
 d by performances representing nine diverse faiths – Catholic\, Protestant
 \, Jewish\, Muslim\, Hindu\, Sikh\, Buddhist\, Baha’i\, and Church of Jesu
 s Christ of Latter-day Saints. Highlights of the concert include renowned 
 Grammy-winning soprano Christine Brewer\, young Opera Theatre soprano Ange
 l Love\, tenor Duane Foster (Broadway\, national\, and regional stage cred
 its)\, and the inspiring Interfaith Youth Chorus directed by Maria A. Elli
 s.\n\nTaking place at the beautiful Sheldon Concert Hall in the Grand Arts
  Center District\, this is a night where music transcends boundaries and u
 nites us all. Don’t miss this extraordinary event!\n\nThe Newmark Institut
 e at JCRC is proud to partner with Arts & Faith St. Louis.
X-WR-RELCALID:05d8f3ba140597f42062beccf52d6317
X-WR-TIMEZONE:America/Chicago
BEGIN:VTIMEZONE
TZID:America/Chicago
BEGIN:STANDARD
TZNAME:CST
DTSTART:20231105T020000
TZOFFSETFROM:-0500
TZOFFSETTO:-0600
RDATE:20241103T020000
RDATE:20251102T020000
END:STANDARD
BEGIN:DAYLIGHT
TZNAME:CDT
DTSTART:20240310T020000
TZOFFSETFROM:-0600
TZOFFSETTO:-0500
RDATE:20250309T020000
RDATE:20260308T020000
END:DAYLIGHT
END:VTIMEZONE
BEGIN:VEVENT
UID:b895c87e-c2e0-4215-9995-7f4d7345a3d3
DTSTAMP:20260422T122816Z
DESCRIPTION:Join us for the 14th annual Interfaith Concert and experience t
 he transformative power of music\, faith\, and community.\n\nBe captivated
  by performances representing nine diverse faiths – Catholic\, Protestant\
 , Jewish\, Muslim\, Hindu\, Sikh\, Buddhist\, Baha’i\, and Church of Jesus
  Christ of Latter-day Saints. Highlights of the concert include renowned G
 rammy-winning soprano Christine Brewer\, young Opera Theatre soprano Angel
  Love\, tenor Duane Foster (Broadway\, national\, and regional stage credi
 ts)\, and the inspiring Interfaith Youth Chorus directed by Maria A. Ellis
 .\n\nTaking place at the beautiful Sheldon Concert Hall in the Grand Arts 
 Center District\, this is a night where music transcends boundaries and un
 ites us all. Don’t miss this extraordinary event!\n\nThe Newmark Institute
  at JCRC is proud to partner with Arts & Faith St. Louis.
DTSTART;TZID=America/Chicago:20241013T160000
DTEND;TZID=America/Chicago:20241013T180000
LOCATION:Sheldon Concert Hall\, 3648 Washington Blvd\, St. Louis\, MO 63108
  US
SUMMARY:Arts & Faith St. Louis Interfaith Concert
END:VEVENT
END:VCALENDAR
