BEGIN:VCALENDAR
VERSION:2.0
PRODID:-//jcrcstl.org//NONSGML kigkonsult.se iCalcreator 2.30.10//
CALSCALE:GREGORIAN
METHOD:PUBLISH
UID:7e265cab-cf19-4c15-886c-6268eb75999b
X-WR-CALDESC:Principia School has invited a panel of faith leaders\, includ
 ing JCRC Executive Director Rabbi Scott Shafrin\, Dr. F. Javier Orozco\, R
 oger Gordon\, and Rev. Elizabeth Rolf Kanerva\, to discuss how we can come
  together after a divisive Presidential Election. This panel will be moder
 ated by Principia College Director of Spiritual Life and College Chaplain.
 \n\nRegistration is not required.
X-WR-RELCALID:948cdcb14f47a0478322045531890c93
X-WR-TIMEZONE:America/Chicago
BEGIN:VTIMEZONE
TZID:America/Chicago
BEGIN:STANDARD
TZNAME:CST
DTSTART:20241103T020000
TZOFFSETFROM:-0500
TZOFFSETTO:-0600
RDATE:20251102T020000
END:STANDARD
BEGIN:DAYLIGHT
TZNAME:CDT
DTSTART:20240310T020000
TZOFFSETFROM:-0600
TZOFFSETTO:-0500
RDATE:20250309T020000
RDATE:20260308T020000
END:DAYLIGHT
END:VTIMEZONE
BEGIN:VEVENT
UID:c9debf6b-22c2-4a56-92c8-269e9251f9cb
DTSTAMP:20260422T111706Z
DESCRIPTION:Principia School has invited a panel of faith leaders\, includi
 ng JCRC Executive Director Rabbi Scott Shafrin\, Dr. F. Javier Orozco\, Ro
 ger Gordon\, and Rev. Elizabeth Rolf Kanerva\, to discuss how we can come 
 together after a divisive Presidential Election. This panel will be modera
 ted by Principia College Director of Spiritual Life and College Chaplain.
 \n\nRegistration is not required.
DTSTART;TZID=America/Chicago:20241108T110000
DTEND;TZID=America/Chicago:20241108T120000
LOCATION:Principia College\, One Front Gate Rd\, Elsah\, IL 62028 US
SUMMARY:Loving Your Neighbor After the Election
END:VEVENT
END:VCALENDAR
