BEGIN:VCALENDAR
VERSION:2.0
PRODID:-//jcrcstl.org//NONSGML kigkonsult.se iCalcreator 2.30.10//
CALSCALE:GREGORIAN
METHOD:PUBLISH
UID:67b1feae-f4aa-48fa-b57a-4d545860b771
X-WR-CALDESC:JCRC is partnering with Saul Mirowitz Jewish Community School 
 for an ongoing program geared towards interfaith and Jewish adjacent famil
 ies (or anyone interested in engaging with interfaith families). Our first
  event will focus on gratitude and respect\, regardless of religious backg
 round.\n\nPlease bring a parve or dairy potato dish.
X-WR-RELCALID:8ca770bfba092756236f8b5fb15b42d4
X-WR-TIMEZONE:America/Chicago
BEGIN:VTIMEZONE
TZID:America/Chicago
BEGIN:STANDARD
TZNAME:CST
DTSTART:20241103T020000
TZOFFSETFROM:-0500
TZOFFSETTO:-0600
RDATE:20251102T020000
END:STANDARD
BEGIN:DAYLIGHT
TZNAME:CDT
DTSTART:20240310T020000
TZOFFSETFROM:-0600
TZOFFSETTO:-0500
RDATE:20250309T020000
RDATE:20260308T020000
END:DAYLIGHT
END:VTIMEZONE
BEGIN:VEVENT
UID:166e829f-aae0-4a1d-8dc7-d064b6b8ba4f
DTSTAMP:20260422T111812Z
DESCRIPTION:JCRC is partnering with Saul Mirowitz Jewish Community School f
 or an ongoing program geared towards interfaith and Jewish adjacent famili
 es (or anyone interested in engaging with interfaith families). Our first 
 event will focus on gratitude and respect\, regardless of religious backgr
 ound.\n\nPlease bring a parve or dairy potato dish.
DTSTART;TZID=America/Chicago:20241117T160000
DTEND;TZID=America/Chicago:20241117T180000
LOCATION:Saul Mirowitz Jewish Community School  348 South Mason Road\, Crev
 e Coeur\, MO 63141 US
SUMMARY:Shared Connections\, Presented by JCRC\, Saul Mirowitz Jewish Commu
 nity School\, and Jewish Federation of St. Louis
END:VEVENT
END:VCALENDAR
