BEGIN:VCALENDAR
VERSION:2.0
PRODID:-//jcrcstl.org//NONSGML kigkonsult.se iCalcreator 2.30.10//
CALSCALE:GREGORIAN
METHOD:PUBLISH
UID:1a364d2d-78ec-417d-8912-544e18ea5cae
X-WR-CALDESC:From director Ilana Trachtman\, follow the story of five Howar
 d University students who sat on a carousel in 1960 and those who joined t
 heir movement as the first organized interracial civil rights protest in U
 .S. history began. From this beginning to the formation of the Freedom Rid
 ers\, witness the untold story of those who heeded the impulse to activism
 .\n\nA Q&A with the director will follow the film.\n\nFor the JCRC discoun
 t code\, please contact Elyse Picker (epicker@jcrcstl.org) by November 8\n
 or Purchase Regularly Priced Tickets using the attached link
X-WR-RELCALID:26d73bef23f83ff8a98ea955efbbf5e1
X-WR-TIMEZONE:America/Chicago
BEGIN:VTIMEZONE
TZID:America/Chicago
BEGIN:STANDARD
TZNAME:CST
DTSTART:20241103T020000
TZOFFSETFROM:-0500
TZOFFSETTO:-0600
RDATE:20251102T020000
END:STANDARD
BEGIN:DAYLIGHT
TZNAME:CDT
DTSTART:20240310T020000
TZOFFSETFROM:-0600
TZOFFSETTO:-0500
RDATE:20250309T020000
RDATE:20260308T020000
END:DAYLIGHT
END:VTIMEZONE
BEGIN:VEVENT
UID:a6e10d74-11c2-4d71-b9dd-d8182e796032
DTSTAMP:20260422T113526Z
DESCRIPTION:From director Ilana Trachtman\, follow the story of five Howard
  University students who sat on a carousel in 1960 and those who joined th
 eir movement as the first organized interracial civil rights protest in U.
 S. history began. From this beginning to the formation of the Freedom Ride
 rs\, witness the untold story of those who heeded the impulse to activism.
 \n\nA Q&A with the director will follow the film.\n\nFor the JCRC discount
  code\, please contact Elyse Picker (epicker@jcrcstl.org) by November 8\no
 r Purchase Regularly Priced Tickets using the attached link
DTSTART;TZID=America/Chicago:20241117T130000
DTEND;TZID=America/Chicago:20241117T140000
LOCATION:Chase Park Plaza Hotel - 212 Kingshighway Blvd\, St. Louis\, MO 63
 108 US
SUMMARY:St. Louis International Film Festival Screening:  Ain't No Back to 
 a Merry-Go-Round
END:VEVENT
END:VCALENDAR
