BEGIN:VCALENDAR
VERSION:2.0
PRODID:-//jcrcstl.org//NONSGML kigkonsult.se iCalcreator 2.30.10//
CALSCALE:GREGORIAN
METHOD:PUBLISH
UID:b2f51b42-847a-493b-95d2-68d1b76b8076
X-WR-CALDESC:Please join us for a conversation with Gilad Helbatz Sofer (Sh
 inshin 2020-21). Gilad will be sharing about his experience after October 
 7 while serving in the IDF in the Spokesperson Unit as a combat photograph
 er.\n\nThis event is sponsored by JCRC and the Jewish Federation in St. Lo
 uis..
X-WR-RELCALID:b037b4373b241efd53a33b9393456f0d
X-WR-TIMEZONE:America/Chicago
BEGIN:VTIMEZONE
TZID:America/Chicago
BEGIN:STANDARD
TZNAME:CST
DTSTART:20241103T020000
TZOFFSETFROM:-0500
TZOFFSETTO:-0600
RDATE:20251102T020000
END:STANDARD
BEGIN:DAYLIGHT
TZNAME:CDT
DTSTART:20240310T020000
TZOFFSETFROM:-0600
TZOFFSETTO:-0500
RDATE:20250309T020000
RDATE:20260308T020000
END:DAYLIGHT
END:VTIMEZONE
BEGIN:VEVENT
UID:2c050b2f-1e12-4211-a29f-f217ec1a42da
DTSTAMP:20260422T111150Z
DESCRIPTION:Please join us for a conversation with Gilad Helbatz Sofer (Shi
 nshin 2020-21). Gilad will be sharing about his experience after October 7
  while serving in the IDF in the Spokesperson Unit as a combat photographe
 r.\n\nThis event is sponsored by JCRC and the Jewish Federation in St. Lou
 is..
DTSTART;TZID=America/Chicago:20241118T190000
DTEND;TZID=America/Chicago:20241118T200000
LOCATION:12 Millstone Campus Drive\, St. Louis\, MO 63146 US
SUMMARY:A Conversation with Former Shinshin\, Gilad Helbatz Sofer
END:VEVENT
END:VCALENDAR
