BEGIN:VCALENDAR
VERSION:2.0
PRODID:-//jcrcstl.org//NONSGML kigkonsult.se iCalcreator 2.30.10//
CALSCALE:GREGORIAN
METHOD:PUBLISH
UID:757da80d-92d1-478a-b74e-2e9ccb00414f
X-WR-CALDESC:
X-WR-RELCALID:e26ceb4f70f95f41a319f007f8fa3b5f
X-WR-TIMEZONE:America/Chicago
BEGIN:VTIMEZONE
TZID:America/Chicago
BEGIN:STANDARD
TZNAME:CST
DTSTART:20241103T020000
TZOFFSETFROM:-0500
TZOFFSETTO:-0600
RDATE:20251102T020000
END:STANDARD
BEGIN:DAYLIGHT
TZNAME:CDT
DTSTART:20240310T020000
TZOFFSETFROM:-0600
TZOFFSETTO:-0500
RDATE:20250309T020000
RDATE:20260308T020000
END:DAYLIGHT
END:VTIMEZONE
BEGIN:VEVENT
UID:9171f6a5-ce36-4480-85bd-4ad1f80a7586
DTSTAMP:20260422T111838Z
DESCRIPTION:
DTSTART;TZID=America/Chicago:20241119T190000
DTEND;TZID=America/Chicago:20241119T200000
LOCATION:12 Millstone Campus Drive\, St. Louis\, MO 63146 US
SUMMARY:Democracy in Action: Confronting Antisemitism and Fostering Bridge-
 Building in a Polarized World
END:VEVENT
END:VCALENDAR
