BEGIN:VCALENDAR
VERSION:2.0
PRODID:-//jcrcstl.org//NONSGML kigkonsult.se iCalcreator 2.30.10//
CALSCALE:GREGORIAN
METHOD:PUBLISH
UID:c26494a2-82c3-471d-a24a-efb34272cca7
X-WR-CALDESC:
X-WR-RELCALID:010c2fe715429f5cd0757970ee313a5a
X-WR-TIMEZONE:America/Chicago
BEGIN:VTIMEZONE
TZID:America/Chicago
BEGIN:STANDARD
TZNAME:CST
DTSTART:20241103T020000
TZOFFSETFROM:-0500
TZOFFSETTO:-0600
RDATE:20251102T020000
END:STANDARD
BEGIN:DAYLIGHT
TZNAME:CDT
DTSTART:20240310T020000
TZOFFSETFROM:-0600
TZOFFSETTO:-0500
RDATE:20250309T020000
RDATE:20260308T020000
END:DAYLIGHT
END:VTIMEZONE
BEGIN:VEVENT
UID:fe8c2f75-4c20-4f25-b95f-b050157c5af1
DTSTAMP:20260422T111757Z
DESCRIPTION:
DTSTART;TZID=America/Chicago:20241119T180000
DTEND;TZID=America/Chicago:20241119T190000
LOCATION:12 Millstone Campus Drive\, St. Louis\, MO 63146 US
SUMMARY:Young Professionals Happy Hour Meet & Greet with Amy Spitalnick
END:VEVENT
END:VCALENDAR
