BEGIN:VCALENDAR
VERSION:2.0
PRODID:-//jcrcstl.org//NONSGML kigkonsult.se iCalcreator 2.30.10//
CALSCALE:GREGORIAN
METHOD:PUBLISH
UID:2f17a512-4d06-4a44-9f58-a5277dac52ee
X-WR-CALDESC:Join Rabbi Scott Shafrin for an informative lunch & learn oppo
 rtunity to explore key topics ahead of the 2025 Missouri Legislative Sessi
 on and learn how you can actively participate in civic matters. PLUS: be o
 ne of the first to hear about the 2025 Jewish Advocacy Day at the MO State
  Capitol!
X-WR-RELCALID:67b70466589237950b5e6eb0ffb0dcc2
X-WR-TIMEZONE:America/Chicago
BEGIN:VTIMEZONE
TZID:America/Chicago
BEGIN:STANDARD
TZNAME:CST
DTSTART:20241103T020000
TZOFFSETFROM:-0500
TZOFFSETTO:-0600
RDATE:20251102T020000
END:STANDARD
BEGIN:DAYLIGHT
TZNAME:CDT
DTSTART:20240310T020000
TZOFFSETFROM:-0600
TZOFFSETTO:-0500
RDATE:20250309T020000
RDATE:20260308T020000
END:DAYLIGHT
END:VTIMEZONE
BEGIN:VEVENT
UID:47154705-8cd1-4ff5-bf42-35933c9a57d4
DTSTAMP:20260422T124848Z
DESCRIPTION:Join Rabbi Scott Shafrin for an informative lunch & learn oppor
 tunity to explore key topics ahead of the 2025 Missouri Legislative Sessio
 n and learn how you can actively participate in civic matters. PLUS: be on
 e of the first to hear about the 2025 Jewish Advocacy Day at the MO State 
 Capitol!
DTSTART;TZID=America/Chicago:20241211T120000
DTEND;TZID=America/Chicago:20241211T130000
LOCATION:https://us06web.zoom.us/meeting/register/tZIodu-pqTktGNQKpKbuJxmw2
 NOnVODoAqo3?_x_zm_rtaid=ejoyO_YkSHiz27-P73D8fw.1733252357065.9ddbc42922c5f
 83fd1ff918903bea2e8&_x_zm_rhtaid=784#/registration
SUMMARY:2025 Legislative Session Update Zoom Lunch & Learn
END:VEVENT
END:VCALENDAR
