BEGIN:VCALENDAR
VERSION:2.0
PRODID:-//jcrcstl.org//NONSGML kigkonsult.se iCalcreator 2.30.10//
CALSCALE:GREGORIAN
METHOD:PUBLISH
UID:6cb1cc5e-66b1-407f-a404-e049ba2e2314
X-WR-CALDESC:Interfaith and Jewish-adjacent families are invited to gather 
 for a cozy brunch\, warm beverages\, and engage in meaningful dialogue abo
 ut the celebrations and challenges the season brings. We are eager to hear
  YOUR stories!\n\nSunday\, December 22 beginning at 10:30 am at\nSaul Miro
 witz Jewish Community School\n\nJCRC is proud to team up with Saul Mirowit
 z Jewish Community School to co-host Shared Connections.\nhttps://mirowitz
 .org/shared-connections-2/
X-WR-RELCALID:385b3d37a0d4736a66ffee31462e7069
X-WR-TIMEZONE:America/Chicago
BEGIN:VTIMEZONE
TZID:America/Chicago
BEGIN:STANDARD
TZNAME:CST
DTSTART:20241103T020000
TZOFFSETFROM:-0500
TZOFFSETTO:-0600
RDATE:20251102T020000
END:STANDARD
BEGIN:DAYLIGHT
TZNAME:CDT
DTSTART:20240310T020000
TZOFFSETFROM:-0600
TZOFFSETTO:-0500
RDATE:20250309T020000
RDATE:20260308T020000
END:DAYLIGHT
END:VTIMEZONE
BEGIN:VEVENT
UID:45e6cca3-78c3-43ad-93c1-27026f1d1a6d
DTSTAMP:20260422T124547Z
DESCRIPTION:Interfaith and Jewish-adjacent families are invited to gather f
 or a cozy brunch\, warm beverages\, and engage in meaningful dialogue abou
 t the celebrations and challenges the season brings. We are eager to hear 
 YOUR stories!\n\nSunday\, December 22 beginning at 10:30 am at\nSaul Mirow
 itz Jewish Community School\n\nJCRC is proud to team up with Saul Mirowitz
  Jewish Community School to co-host Shared Connections.\nhttps://mirowitz.
 org/shared-connections-2/
DTSTART;TZID=America/Chicago:20241222T100000
DTEND;TZID=America/Chicago:20241222T120000
LOCATION:Saul Mirowitz Jewish Community School
SUMMARY:Shared Connections - A Space for Interfaith Families
END:VEVENT
END:VCALENDAR
