BEGIN:VCALENDAR
VERSION:2.0
PRODID:-//jcrcstl.org//NONSGML kigkonsult.se iCalcreator 2.30.10//
CALSCALE:GREGORIAN
METHOD:PUBLISH
UID:4bf41573-eb5c-404a-a605-655d89a2aea2
X-WR-CALDESC:Join us for Jewish Advocacy Day in Missouri\, where we will co
 me together as a community and put our shared values into action in Jeffer
 son City. Our focus for this day will be on legislation for Non-Profit Sec
 urity Grants.\n\nWhether you’re an experienced advocate or new to the legi
 slative process\, you’ll be equipped with everything you need.\n\nTogether
 \, let’s stand up for the issues that matter most and make a meaningful im
 pact for our community and beyond.\n\nPRIORITY AREA:\nNon-Profit Security 
 Funding: The ADL reported that\, between October 7\, 2023 and September 20
 24\, more than 2000 antisemitic incidents were targeted at Jewish institut
 ions. Increased funding for nonprofit security measures is essential to sa
 feguard our Jewish organizations\, as well as schools\, spiritual spaces\,
  community centers\, and other vital places across Missouri.
X-WR-RELCALID:e9b5b54ad195f4587052ea67cdd5bb66
X-WR-TIMEZONE:America/Chicago
BEGIN:VTIMEZONE
TZID:America/Chicago
BEGIN:STANDARD
TZNAME:CST
DTSTART:20241103T020000
TZOFFSETFROM:-0500
TZOFFSETTO:-0600
RDATE:20251102T020000
END:STANDARD
BEGIN:DAYLIGHT
TZNAME:CDT
DTSTART:20240310T020000
TZOFFSETFROM:-0600
TZOFFSETTO:-0500
RDATE:20250309T020000
RDATE:20260308T020000
END:DAYLIGHT
END:VTIMEZONE
BEGIN:VEVENT
UID:d47cd173-57e5-4043-b523-72f02cbafe2d
DTSTAMP:20260422T141415Z
DESCRIPTION:Join us for Jewish Advocacy Day in Missouri\, where we will com
 e together as a community and put our shared values into action in Jeffers
 on City. Our focus for this day will be on legislation for Non-Profit Secu
 rity Grants.\n\nWhether you’re an experienced advocate or new to the legis
 lative process\, you’ll be equipped with everything you need.\n\nTogether\
 , let’s stand up for the issues that matter most and make a meaningful imp
 act for our community and beyond.\n\nPRIORITY AREA:\nNon-Profit Security F
 unding: The ADL reported that\, between October 7\, 2023 and September 202
 4\, more than 2000 antisemitic incidents were targeted at Jewish instituti
 ons. Increased funding for nonprofit security measures is essential to saf
 eguard our Jewish organizations\, as well as schools\, spiritual spaces\, 
 community centers\, and other vital places across Missouri.
DTSTART;TZID=America/Chicago:20250122T080000
DTEND;TZID=America/Chicago:20250122T170000
LOCATION:Missouri State Capitol\, Jefferson City\, MO
SUMMARY:Jewish Advocacy Day
END:VEVENT
END:VCALENDAR
