BEGIN:VCALENDAR
VERSION:2.0
PRODID:-//jcrcstl.org//NONSGML kigkonsult.se iCalcreator 2.30.10//
CALSCALE:GREGORIAN
METHOD:PUBLISH
UID:20dc29f2-76a8-4a03-9b0b-f0199905f519
X-WR-CALDESC:Last fall\, Student to Student\, a program of the Newmark Inst
 itute at JCRC\, presented to the Edwardsville High School Drama Club in pr
 eparation for their production of Letters to Sala.\n\nTo share the incredi
 ble impact of their collaboration\, JCRC and Edwardsville High School will
  host a panel discussion with the cast\, crew\, and Student to Student lea
 ders. The event will also include monologues and an exhibition of Letters 
 to Sala costumes\, props\, and posters as well as a Q&A with Theatre Direc
 tor and Educator\, Ashley Melton\, and Student to Student Director\, Laure
 n Abraham.\n\nA short reception outside of the auditorium with refreshment
 s will take place prior to the event.
X-WR-RELCALID:ef1b0224959db64c4ccf4eae0ea5ee9f
X-WR-TIMEZONE:America/Chicago
BEGIN:VTIMEZONE
TZID:America/Chicago
BEGIN:STANDARD
TZNAME:CST
DTSTART:20241103T020000
TZOFFSETFROM:-0500
TZOFFSETTO:-0600
RDATE:20251102T020000
END:STANDARD
BEGIN:DAYLIGHT
TZNAME:CDT
DTSTART:20240310T020000
TZOFFSETFROM:-0600
TZOFFSETTO:-0500
RDATE:20250309T020000
RDATE:20260308T020000
END:DAYLIGHT
END:VTIMEZONE
BEGIN:VEVENT
UID:55023d0f-8c19-454f-9e2a-c41d2d69aa49
DTSTAMP:20260422T140232Z
DESCRIPTION:Last fall\, Student to Student\, a program of the Newmark Insti
 tute at JCRC\, presented to the Edwardsville High School Drama Club in pre
 paration for their production of Letters to Sala.\n\nTo share the incredib
 le impact of their collaboration\, JCRC and Edwardsville High School will 
 host a panel discussion with the cast\, crew\, and Student to Student lead
 ers. The event will also include monologues and an exhibition of Letters t
 o Sala costumes\, props\, and posters as well as a Q&A with Theatre Direct
 or and Educator\, Ashley Melton\, and Student to Student Director\, Lauren
  Abraham.\n\nA short reception outside of the auditorium with refreshments
  will take place prior to the event.
DTSTART;TZID=America/Chicago:20250126T150000
DTEND;TZID=America/Chicago:20250126T163000
LOCATION:Edwardsville High School Auditorium\, 6161 Center Grove Road\, Edw
 ardsville\, IL 62025 US
SUMMARY:Sharing the Spotlight: An Intimate Look at the Collaboration Betwee
 n Student to Student and the Edwardsville High School Drama Club
END:VEVENT
END:VCALENDAR
