BEGIN:VCALENDAR
VERSION:2.0
PRODID:-//jcrcstl.org//NONSGML kigkonsult.se iCalcreator 2.30.10//
CALSCALE:GREGORIAN
METHOD:PUBLISH
UID:5dc0dc61-926f-48b4-9e44-5ec626a8c477
X-WR-CALDESC:JCRC is proud to co-host this important program!\nJoin us on Z
 oom for an important update on the reproductive healthcare legal and legis
 lative landscape in Missouri. Missouri State Senator Tracy McCreery and AC
 LU of Missouri Director of Policy & Campaigns Tori Schaffer will brief us 
 on the status of Amendment 3 and other information related to reproductive
  rights.\n\nThursday\, February 20\, 2025  |  5:30 pm CT  |  on Zoom\nTher
 e is no cost to attend\, please RSVP at:\nhttps://donorbox.org/events/7291
 72
X-WR-RELCALID:aeff020cf2bf55bce3be6f4461615c5e
X-WR-TIMEZONE:America/Chicago
BEGIN:VTIMEZONE
TZID:America/Chicago
BEGIN:STANDARD
TZNAME:CST
DTSTART:20241103T020000
TZOFFSETFROM:-0500
TZOFFSETTO:-0600
RDATE:20251102T020000
END:STANDARD
BEGIN:DAYLIGHT
TZNAME:CDT
DTSTART:20240310T020000
TZOFFSETFROM:-0600
TZOFFSETTO:-0500
RDATE:20250309T020000
RDATE:20260308T020000
END:DAYLIGHT
END:VTIMEZONE
BEGIN:VEVENT
UID:244956c8-51fd-4424-a1dd-965960e70c8c
DTSTAMP:20260422T154122Z
DESCRIPTION:JCRC is proud to co-host this important program!\nJoin us on Zo
 om for an important update on the reproductive healthcare legal and legisl
 ative landscape in Missouri. Missouri State Senator Tracy McCreery and ACL
 U of Missouri Director of Policy & Campaigns Tori Schaffer will brief us o
 n the status of Amendment 3 and other information related to reproductive 
 rights.\n\nThursday\, February 20\, 2025  |  5:30 pm CT  |  on Zoom\nThere
  is no cost to attend\, please RSVP at:\nhttps://donorbox.org/events/72917
 2
DTSTART;TZID=America/Chicago:20250220T173000
DTEND;TZID=America/Chicago:20250220T180000
LOCATION:https://donorbox.org/events/729172
SUMMARY:What's Happening Since Amendment 3 Passed?
END:VEVENT
END:VCALENDAR
