BEGIN:VCALENDAR
VERSION:2.0
PRODID:-//jcrcstl.org//NONSGML kigkonsult.se iCalcreator 2.30.10//
CALSCALE:GREGORIAN
METHOD:PUBLISH
UID:6b91f45b-ff67-4d52-8d5e-56bc9be637de
X-WR-CALDESC:Tzedek Awards\nAt JCRC\, we believe that justice is at the fou
 ndation of everything we do. That's why we're thrilled to host the annual 
 Tzedek Awards Ceremony\, where we bring together the Jewish\, intergroup\,
  and interfaith communities in St. Louis to celebrate our ongoing relation
 ships and honor individuals who stand out as leaders of justice in our cit
 y. \n\nThe word Tzedek\, which means 'justice' in Hebrew\, represents our 
 commitment to creating a fair and equitable society for all. Honorees embo
 dy the mission of JCRC and make significant contributions to strengthening
  our region as a whole. \n\nThis Year's Honorees:\nLeslie & Michael Litwac
 k\, Batya Abramson-Goldstein Legacy Award\nFlint Woodruff Fowler\, Norman 
 A. Stack Community Relations Award\nLaura Horwitz\, Michael & Barbara Newm
 ark Emerging Leader Award\nCynthia Wachtel\, Joel & Joanne Iskiwitch Israe
 l Award\nJames Fowlkes-Comninellis\, Newmark Institute for Human Relations
  Pluralism Award\nRobin Hattori\, Newmark Institute for Human Relations Pl
 uralism Award\nHelen Turner\, Newmark Institute for Human Relations Plural
 ism Award\nPresentation of the Milton I. And Merle K. Goldstein Scholarshi
 p to a Soldan International High School Graduating Senior\nDr. Lisa Ring &
  Dr. Gregory Storch\, Special Student to Student 30th Anniversary Tribute
 \nand Student to Student Alumni Recognition
X-WR-RELCALID:62767a57369801659d6abed28113b961
X-WR-TIMEZONE:America/Chicago
BEGIN:VTIMEZONE
TZID:America/Chicago
BEGIN:STANDARD
TZNAME:CST
DTSTART:20241103T020000
TZOFFSETFROM:-0500
TZOFFSETTO:-0600
RDATE:20251102T020000
RDATE:20261101T020000
END:STANDARD
BEGIN:DAYLIGHT
TZNAME:CDT
DTSTART:20250309T020000
TZOFFSETFROM:-0600
TZOFFSETTO:-0500
RDATE:20260308T020000
END:DAYLIGHT
END:VTIMEZONE
BEGIN:VEVENT
UID:f6fa4906-86d7-40ff-9690-bd5c525f8415
DTSTAMP:20260422T184738Z
DESCRIPTION:Tzedek Awards\nAt JCRC\, we believe that justice is at the foun
 dation of everything we do. That's why we're thrilled to host the annual T
 zedek Awards Ceremony\, where we bring together the Jewish\, intergroup\, 
 and interfaith communities in St. Louis to celebrate our ongoing relations
 hips and honor individuals who stand out as leaders of justice in our city
 . \n\nThe word Tzedek\, which means 'justice' in Hebrew\, represents our c
 ommitment to creating a fair and equitable society for all. Honorees embod
 y the mission of JCRC and make significant contributions to strengthening 
 our region as a whole. \n\nThis Year's Honorees:\nLeslie & Michael Litwack
 \, Batya Abramson-Goldstein Legacy Award\nFlint Woodruff Fowler\, Norman A
 . Stack Community Relations Award\nLaura Horwitz\, Michael & Barbara Newma
 rk Emerging Leader Award\nCynthia Wachtel\, Joel & Joanne Iskiwitch Israel
  Award\nJames Fowlkes-Comninellis\, Newmark Institute for Human Relations 
 Pluralism Award\nRobin Hattori\, Newmark Institute for Human Relations Plu
 ralism Award\nHelen Turner\, Newmark Institute for Human Relations Plurali
 sm Award\nPresentation of the Milton I. And Merle K. Goldstein Scholarship
  to a Soldan International High School Graduating Senior\nDr. Lisa Ring & 
 Dr. Gregory Storch\, Special Student to Student 30th Anniversary Tribute\n
 and Student to Student Alumni Recognition
DTSTART;TZID=America/Chicago:20250520T173000
DTEND;TZID=America/Chicago:20250520T200000
LOCATION:Clayton Plaza Hotel
SUMMARY:2025 Tzedek Awards
END:VEVENT
END:VCALENDAR
