BEGIN:VCALENDAR
VERSION:2.0
PRODID:-//jcrcstl.org//NONSGML kigkonsult.se iCalcreator 2.30.10//
CALSCALE:GREGORIAN
METHOD:PUBLISH
UID:39625b76-caf1-4253-95e7-64cb5d12d4f8
X-WR-CALDESC:Sunday\, June 29\n10:00 am - PRIDE St. Louis Interfaith Servic
 e\nFollowed by the Grand parade where we will walk with our interfaith par
 tners in the community\n\nPLEASE SIGN UP TO RECEIVE UPDATES:\nhttps://lp.c
 onstantcontactpages.com/sv/0QeWnMV/InterfaithPride2025
X-WR-RELCALID:4aafa69dc0a8911783cbfff314f07646
X-WR-TIMEZONE:America/Chicago
BEGIN:VTIMEZONE
TZID:America/Chicago
BEGIN:STANDARD
TZNAME:CST
DTSTART:20241103T020000
TZOFFSETFROM:-0500
TZOFFSETTO:-0600
RDATE:20251102T020000
RDATE:20261101T020000
END:STANDARD
BEGIN:DAYLIGHT
TZNAME:CDT
DTSTART:20250309T020000
TZOFFSETFROM:-0600
TZOFFSETTO:-0500
RDATE:20260308T020000
END:DAYLIGHT
END:VTIMEZONE
BEGIN:VEVENT
UID:bbe4e07a-3cb1-45e3-a80e-e50e663e5947
DTSTAMP:20260422T171157Z
DESCRIPTION:Sunday\, June 29\n10:00 am - PRIDE St. Louis Interfaith Service
 \nFollowed by the Grand parade where we will walk with our interfaith part
 ners in the community\n\nPLEASE SIGN UP TO RECEIVE UPDATES:\nhttps://lp.co
 nstantcontactpages.com/sv/0QeWnMV/InterfaithPride2025
DTSTART;TZID=America/Chicago:20250629T050000
DTEND;TZID=America/Chicago:20250629T050001
LOCATION:
SUMMARY:Interfaith PRIDE Service & Parade (CLICK FOR DETAILS)
END:VEVENT
END:VCALENDAR
