BEGIN:VCALENDAR
VERSION:2.0
PRODID:-//jcrcstl.org//NONSGML kigkonsult.se iCalcreator 2.30.10//
CALSCALE:GREGORIAN
METHOD:PUBLISH
UID:d3bb6d10-3ba7-4566-9f60-7da2ea9f7ab3
X-WR-CALDESC:Join the Museum for a powerful presentation by Kristi Williams
 \, founder of Black History Saturdays. In response to legislation restrict
 ing Black history education in Oklahoma\, Williams\, a direct descendant o
 f the Tulsa Race Massacre\, created a groundbreaking school to ensure thes
 e vital stories are taught and preserved. Now touring the country\, she sh
 ares her insights on race\, memory\, and the urgent need to protect histor
 ical truth. Don’t miss this important conversation about the language of r
 emembrance and its role in shaping a more just future.\n\nThis program wil
 l feature a 45-minute lecture followed by live Q&A.
X-WR-RELCALID:0a896560413b328a1ee77315719f2453
X-WR-TIMEZONE:America/Chicago
BEGIN:VTIMEZONE
TZID:America/Chicago
BEGIN:STANDARD
TZNAME:CST
DTSTART:20241103T020000
TZOFFSETFROM:-0500
TZOFFSETTO:-0600
RDATE:20251102T020000
RDATE:20261101T020000
END:STANDARD
BEGIN:DAYLIGHT
TZNAME:CDT
DTSTART:20250309T020000
TZOFFSETFROM:-0600
TZOFFSETTO:-0500
RDATE:20260308T020000
END:DAYLIGHT
END:VTIMEZONE
BEGIN:VEVENT
UID:4a288ffb-2595-4afa-9121-fc8b3615ca42
DTSTAMP:20260422T142700Z
DESCRIPTION:Join the Museum for a powerful presentation by Kristi Williams\
 , founder of Black History Saturdays. In response to legislation restricti
 ng Black history education in Oklahoma\, Williams\, a direct descendant of
  the Tulsa Race Massacre\, created a groundbreaking school to ensure these
  vital stories are taught and preserved. Now touring the country\, she sha
 res her insights on race\, memory\, and the urgent need to protect histori
 cal truth. Don’t miss this important conversation about the language of re
 membrance and its role in shaping a more just future.\n\nThis program will
  feature a 45-minute lecture followed by live Q&A.
DTSTART;TZID=America/Chicago:20250810T150000
DTEND;TZID=America/Chicago:20250810T160000
LOCATION:St. Louis Kaplan Feldman Holocaust Museum
SUMMARY:Changing the Narrative: Addressing Language\, Black History and Emp
 owerment with Kristi Williams
END:VEVENT
END:VCALENDAR
